BEGIN:VCALENDAR
VERSION:2.0
PRODID:-//Sparchkünstler - ECPv6.15.20//NONSGML v1.0//EN
CALSCALE:GREGORIAN
METHOD:PUBLISH
X-ORIGINAL-URL:https://bernd-pr-winter.de
X-WR-CALDESC:Veranstaltungen für Sparchkünstler
REFRESH-INTERVAL;VALUE=DURATION:PT1H
X-Robots-Tag:noindex
X-PUBLISHED-TTL:PT1H
BEGIN:VTIMEZONE
TZID:Europe/Berlin
BEGIN:DAYLIGHT
TZOFFSETFROM:+0100
TZOFFSETTO:+0200
TZNAME:CEST
DTSTART:20250330T010000
END:DAYLIGHT
BEGIN:STANDARD
TZOFFSETFROM:+0200
TZOFFSETTO:+0100
TZNAME:CET
DTSTART:20251026T010000
END:STANDARD
BEGIN:DAYLIGHT
TZOFFSETFROM:+0100
TZOFFSETTO:+0200
TZNAME:CEST
DTSTART:20260329T010000
END:DAYLIGHT
BEGIN:STANDARD
TZOFFSETFROM:+0200
TZOFFSETTO:+0100
TZNAME:CET
DTSTART:20261025T010000
END:STANDARD
BEGIN:DAYLIGHT
TZOFFSETFROM:+0100
TZOFFSETTO:+0200
TZNAME:CEST
DTSTART:20270328T010000
END:DAYLIGHT
BEGIN:STANDARD
TZOFFSETFROM:+0200
TZOFFSETTO:+0100
TZNAME:CET
DTSTART:20271031T010000
END:STANDARD
END:VTIMEZONE
BEGIN:VEVENT
DTSTART;TZID=Europe/Berlin:20260507T190000
DTEND;TZID=Europe/Berlin:20260507T203000
DTSTAMP:20260423T130402
CREATED:20260323T202213Z
LAST-MODIFIED:20260323T202213Z
UID:1238-1778180400-1778185800@bernd-pr-winter.de
SUMMARY:Die Verteidigungsrede des Sokrates
DESCRIPTION:Internationaler Tag der Literatur \nDie Verteidigungsrede des Sokrates \nS O K R A T E S \nGeburtsstunde der Demokratie \nRezitator Bernd P. R. Winter \nIm Jahr 399 v. Chr. wurde Sokrates wegen Leugnung der staatlich anerkannten Götter und Verführung der Jugend vom Athener Rat zum Tod verurteilt. Zehn bis 20 Jahre nach dem weltberühmten Justizfall verfasste sein Schüler Platon\, der bei dem Prozess zugegen war\, die Apologie des Sokrates. Die Verteidigungsrede ist jedoch keine historisch korrekte Darstellung der Ereignisse\, sondern vielmehr ein Entwurf von Platons philosophischem Lebensideal. Ihm zufolge ist es die Aufgabe des Philosophen\, öffentlich anerkannte Weisheiten infrage zu stellen und die Mitmenschen zu einem tugendhaften Leben anzuleiten. Geld und Ansehen\, Karriere und Ämter stehen laut Platon dem Glück im Weg. Bevor die Menschen sich mit politischen Angelegenheiten befassen\, sollen sie sich zuerst um sich selbst\, um ihre Seele kümmern. Wer nach diesen Grundsätzen lebt\, das führt uns Platons Sokrates ebenso wortgewaltig wie eindringlich vor Augen\, braucht selbst den Tod nicht zu fürchten. Mit ihrer zeitlosen Wahrheit und ihrer schlichten\, beinahe alltäglichen Sprache zieht die Apologie des Sokrates den Leser in ihren Bann\, heute ebenso wie vor 2400 Jahren. \nGrandios spricht Bernd P. Winter die Verteidigungsrede des Sokrates. Er sitzt am Tisch\, der „Angeklagte und Verurteilte“\, und eine Fülle seiner überlegenen Weis- und Wahrheiten prasselt auf die Richter und Ratsherren ein. Seine Stimme\, aber auch sein schauspielerisches Können gepaart voller Ironie\, Spott und Witz. Im Untergrund aber spürt man auch Leid und Schmerz in seiner Stimme. Man ist auf der Seite Sokrates und fühlt geradezu die Beschämung der Ankläger. \n\nBeginn 19 Uhr; Eintritt frei \nSpenden sind willkommen
URL:https://bernd-pr-winter.de/?tribe_events=die-verteidigungsrede-des-sokrates
LOCATION:Bücherei Kassel Kirchditmold\, Zentgrafenstraße 142\, Kassel\, 34130
END:VEVENT
BEGIN:VEVENT
DTSTART;TZID=Europe/Berlin:20260830T170000
DTEND;TZID=Europe/Berlin:20260830T183000
DTSTAMP:20260423T130402
CREATED:20260408T121505Z
LAST-MODIFIED:20260408T125530Z
UID:1246-1788109200-1788114600@bernd-pr-winter.de
SUMMARY:"GOETHE UND SEINE FRAUEN"
DESCRIPTION:Johann Wolfgang von Goethe\nNur wer die Sehnsucht kennt \nSzenische Lesung \nBernd P. R. Winter; Thomas Hof \nDer Kasseler Rezitator Bernd P. R. Winter und der Schauspieler Thomas Hof begleiten Goethe und „seine Frauen“ durch Liebesfreud und Liebesleid vom Jüngling bis ins hohe Alter und fügen dem Bild Goethes als Mensch und Liebhaber neue Facetten hinzu. Biographien\, Tagebuchaufzeichnungen\, Briefe und seine unsterbliche Lyrik kommen zur Aufführung. \n„Die Liebe lässt den Dichterfürsten ein Leben lang nicht los. Er ist unglücklich\, wenn er nicht liebt. Aber fürchtet sich gleichzeitig davor\, sich zu verlieben. Lieben bedeutet für ihn vor allem leiden. Das bemerkt bereits der Siebzehnjährige\, er leidet mit Genuss. Ob es all den Friederiken\, Ulriken\, Bettinen und Christianen ähnlich ergangen ist\, die von Goethe geliebt und häufig verlassen wurden?“ \n  \n„In allen Frauen\, die Goethe geliebt hat\, erkannte er Züge der einen Frau\, die er als Mater Gloriosa auf den Himmelsthron erhob und die zu besingen er nicht müde wurde. \nUnd so ließ er am Ende des Faust II den Chorus Mysticus gewissermaßen als Quintessenz aus den Erfahrungen seines langen Lebens verkünden: Das Ewig-Weibliche zieht uns hinan“.  \n  \nAuf sehr unterhaltsame Weise schaffen es die Künstler Leben und Wirken des großen Dichters zum Hörerlebnis werden zu lassen. \nEin Muss für alle Freunde großer Weltliteratur. \nEin kleiner Sektempfang im historischen Ambiente rundet den Abend ab. \nRüdiger Safranski: Goethe Kunstwerk des Lebens\nSigrid Damm: Goethes letzte Reise\nSiegfried Schütt: Liebe\, Liebe laß mich los\nFriedhelm Kemp: Goethe Gedichte\n  \nTAG Naturpark Habichtswald \nBeginn 17 Uhr; Eintritt: 18 € \nKarten: www.naturpark-habichtswald.de
URL:https://bernd-pr-winter.de/?tribe_events=goethe-und-seine-frauen
LOCATION:Schloss Wilhelmsthal Calden\, Rasenalle\, Calden\, Hessen\, 34379
END:VEVENT
END:VCALENDAR